Workbook

Sheet Guidelines

Sheet Scales 1.1.18
A1: Guidelines for Contract Researchers Salary Scales
A2: Applicable from 1st January 2018
C3: Researchers Salary Scales (Applicable from 01 January 2018)*
C4: GROSS SALARY | D4: Obligatory contribution | E4: Obligatory contribution | F4: Budget amount | H4: You are obliged under the Fixed Term Workers Act (2003) to provide Pension Costs for temporary and contract staff. In accordance with the Employment Control Framework, and in recognition of the fact that staff in contract research and other externally funded posts have entitlements to future pension benefits which is a deferred cost or liability for the Exchequer, any such new posts created or any renewal / renegotiation of existing contracts must include an employer’s pension contribution charge of 20% of gross pay. This represents the estimated contribution required from the project funder, in addition to the employee’s own personal pension contribution, to cover the deferred cost to the Exchequer of future pension entitlements.
A5: Column 1 | C5: Column 2 | D5: Column 3 | E5: Column 3 | F5: Column 4
A6: Researcher Salary Scales | C6: Gross Salary/ annum (€) | D6: Employer's PRSI @ 10.85% (€) | E6: Employer's Pension @ 20% (€) | F6: Annual cost to budget (€) | H6: HOW MUCH SHOULD I PAY?
H7: The relevant scale will relate to the nature of the work. These are the TYPICAL qualifications/ experience you would expect for this level of remuneration.
A8: Research Assistant | B8: Point 1 | C8: 21673.797 | D8: =C8*0.1085 -> 2351.607 | E8: =C8*20% -> 4334.7594 | F8: =C8+D8+E8 -> 28360.163 | H8: Minimum of primary Degree in relevant discipline with little or no research experience.
B9: Point 2 | C9: 22609.317 | D9: =C9*0.1085 -> 2453.1109 | E9: =C9*20% -> 4521.8634 | F9: =C9+D9+E9 -> 29584.292
B10: Point 3 | C10: 23630.212 | D10: =C10*0.1085 -> 2563.8781 | E10: =C10*20% -> 4726.0425 | F10: =C10+D10+E10 -> 30920.133
A11: LEVEL 1 | B11: Point 4 | C11: 24310.336 | D11: =C11*0.1085 -> 2637.6715 | E11: =C11*20% -> 4862.0673 | F11: =C11+D11+E11 -> 31810.075
B12: Point 5 | C12: 25009.13 | D12: =C12*0.1085 -> 2713.4906 | E12: =C12*20% -> 5001.826 | F12: =C12+D12+E12 -> 32724.447 | H12: For higher points on scale secondary degree (Masters/PhD) and/or some research experience desirable.
B13: Point 6 | C13: 25727.629 | D13: =C13*0.1085 -> 2791.4477 | E13: =C13*20% -> 5145.5258 | F13: =C13+D13+E13 -> 33664.603
B14: Point 7 | C14: 26096.299 | D14: =C14*0.1085 -> 2831.4485 | E14: =C14*20% -> 5219.2598 | F14: =C14+D14+E14 -> 34147.008
B15: Point 8 | C15: 26850.133 | D15: =C15*0.1085 -> 2913.2394 | E15: =C15*20% -> 5370.0266 | F15: =C15+D15+E15 -> 35133.399 | H15: Level on scale dependent on funding availability and experience, and will also be market-driven and discipline-related.
B16: Point 9 | C16: 27625.409 | D16: =C16*0.1085 -> 2997.3569 | E16: =C16*20% -> 5525.0818 | F16: =C16+D16+E16 -> 36147.848
B17: Point 10 | C17: 28423.147 | D17: =C17*0.1085 -> 3083.9115 | E17: =C17*20% -> 5684.6295 | F17: =C17+D17+E17 -> 37191.688
B18: Point 11 | C18: 29248.348 | D18: =C18*0.1085 -> 3173.4457 | E18: =C18*20% -> 5849.6696 | F18: =C18+D18+E18 -> 38271.463 | H18: Consideration also needs to be given to government policy in respect of direct entry level grades and the application of a 10% cut in gross salary for new entrants.
B19: Point 12 | C19: 30092.031 | D19: =C19*0.1085 -> 3264.9854 | E19: =C19*20% -> 6018.4062 | F19: =C19+D19+E19 -> 39375.422
B20: Point 13 | C20: 30940.774 | D20: =C20*0.1085 -> 3357.074 | E20: =C20*20% -> 6188.1548 | F20: =C20+D20+E20 -> 40486.003
B21: Point 14 | C21: 31817.02 | D21: =C21*0.1085 -> 3452.1467 | E21: =C21*20% -> 6363.404 | F21: =C21+D21+E21 -> 41632.571
B22: Point 15 | C22: 32403.83 | D22: =C22*0.1085 -> 3515.8156 | E22: =C22*20% -> 6480.766 | F22: =C22+D22+E22 -> 42400.412
B23: Point 16 | C23: 33322.93 | D23: =C23*0.1085 -> 3615.5379 | E23: =C23*20% -> 6664.586 | F23: =C23+D23+E23 -> 43603.054
B24: Point 17 | C24: 34269.3 | D24: =C24*0.1085 -> 3718.2191 | E24: =C24*20% -> 6853.86 | F24: =C24+D24+E24 -> 44841.379
A25: Post-Doctorate Researcher | B25: Point 1 | C25: 36854.234 | D25: =C25*0.1085 -> 3998.6843 | E25: =C25*20% -> 7370.8467 | F25: =C25+D25+E25 -> 48223.765 | H25: Minimum of PhD or equivalent* research experience (including industrial R&D).
B26: Point 2 | C26: 37382.827 | D26: =C26*0.1085 -> 4056.0367 | E26: =C26*20% -> 7476.5654 | F26: =C26+D26+E26 -> 48915.429
B27: Point 3 | C27: 39137.5 | D27: =C27*0.1085 -> 4246.4187 | E27: =C27*20% -> 7827.5 | F27: =C27+D27+E27 -> 51211.419
A28: LEVEL 2 | B28: Point 4 | C28: 40258.6 | D28: =C28*0.1085 -> 4368.0581 | E28: =C28*20% -> 8051.72 | F28: =C28+D28+E28 -> 52678.378
B29: Point 5 | C29: 41413.03 | D29: =C29*0.1085 -> 4493.3138 | E29: =C29*20% -> 8282.606 | F29: =C29+D29+E29 -> 54188.95 | H29: Level on scale dependent on funding availability and experience, and will also be market-driven and discipline-related.
B30: Point 6 | C30: 42602.81 | D30: =C30*0.1085 -> 4622.4049 | E30: =C30*20% -> 8520.562 | F30: =C30+D30+E30 -> 55745.777
B31: Point 7 | C31: 43827.94 | D31: =C31*0.1085 -> 4755.3315 | E31: =C31*20% -> 8765.588 | F31: =C31+D31+E31 -> 57348.859
B32: Point 8 | C32: 45090.43 | D32: =C32*0.1085 -> 4892.3117 | E32: =C32*20% -> 9018.086 | F32: =C32+D32+E32 -> 59000.828
B33: Point 9 | C33: 46389.3 | D33: =C33*0.1085 -> 5033.2391 | E33: =C33*20% -> 9277.86 | F33: =C33+D33+E33 -> 60700.399 | H33: * EU defines PhD equivalent 4 years fulltime research after primary degree
B34: Point 10 | C34: 47727.55 | D34: =C34*0.1085 -> 5178.4392 | E34: =C34*20% -> 9545.51 | F34: =C34+D34+E34 -> 62451.499
A35: Research Fellow | B35: Point 1 | C35: 53243.16 | D35: =C35*0.1085 -> 5776.8829 | E35: =C35*20% -> 10648.632 | F35: =C35+D35+E35 -> 69668.675 | H35: Minimum of significant post-doctoral and/or industrial research experience.
A36: LEVEL 3 | B36: Point 2 | C36: 54787.45 | D36: =C36*0.1085 -> 5944.4383 | E36: =C36*20% -> 10957.49 | F36: =C36+D36+E36 -> 71689.378 | H36: Capable of independent research
B37: Point 3 | C37: 56378.2 | D37: =C37*0.1085 -> 6117.0347 | E37: =C37*20% -> 11275.64 | F37: =C37+D37+E37 -> 73770.875 | H37: Level on scale dependent on funding availability and experience, and will also be market-driven and discipline-related.
B38: Point 4 | C38: 58016.42 | D38: =C38*0.1085 -> 6294.7816 | E38: =C38*20% -> 11603.284 | F38: =C38+D38+E38 -> 75914.486
A39: Senior Research Fellow | B39: Point 1 | C39: 64766.25 | D39: =C39*0.1085 -> 7027.1381 | E39: =C39*20% -> 12953.25 | F39: =C39+D39+E39 -> 84746.638 | H39: Minimum of very significant post-doctoral and/or industrial research experience.
A40: LEVEL 4 | B40: Point 2 | C40: 66655.96 | D40: =C40*0.1085 -> 7232.1717 | E40: =C40*20% -> 13331.192 | F40: =C40+D40+E40 -> 87219.324 | H40: Record of post-graduate supervision, international collaboration and funding acquisition
...

Sheet Scales 1.10.18
A1: Guidelines for Contract Researchers Salary Scales
A2: Applicable from 1st October 2018
C3: Researchers Salary Scales (Applicable from 1st October 2018)*
C4: GROSS SALARY | D4: Obligatory contribution | E4: Obligatory contribution | F4: Budget amount | H4: You are obliged under the Fixed Term Workers Act (2003) to provide Pension Costs for temporary and contract staff. In accordance with the Employment Control Framework, and in recognition of the fact that staff in contract research and other externally funded posts have entitlements to future pension benefits which is a deferred cost or liability for the Exchequer, any such new posts created or any renewal / renegotiation of existing contracts must include an employer’s pension contribution charge of 20% of gross pay. This represents the estimated contribution required from the project funder, in addition to the employee’s own personal pension contribution, to cover the deferred cost to the Exchequer of future pension entitlements.
A5: Column 1 | C5: Column 2 | D5: Column 3 | E5: Column 3 | F5: Column 4
A6: Researcher Salary Scales | C6: Gross Salary/ annum (€) | D6: Employer's PRSI @ 10.85% (€) | E6: Employer's Pension @ 20% (€) | F6: Annual cost to budget (€) | H6: HOW MUCH SHOULD I PAY?
H7: The relevant scale will relate to the nature of the work. These are the TYPICAL qualifications/ experience you would expect for this level of remuneration.
A8: Research Assistant | B8: Point 1 | C8: 21890.535 | D8: =C8*0.1085 -> 2375.123 | E8: =C8*20% -> 4378.107 | F8: =C8+D8+E8 -> 28643.765 | H8: Minimum of primary Degree in relevant discipline with little or no research experience.
B9: Point 2 | C9: 22835.41 | D9: =C9*0.1085 -> 2477.642 | E9: =C9*20% -> 4567.0821 | F9: =C9+D9+E9 -> 29880.135
B10: Point 3 | C10: 23866.515 | D10: =C10*0.1085 -> 2589.5168 | E10: =C10*20% -> 4773.3029 | F10: =C10+D10+E10 -> 31229.334
A11: LEVEL 1 | B11: Point 4 | C11: 24553.44 | D11: =C11*0.1085 -> 2664.0482 | E11: =C11*20% -> 4910.688 | F11: =C11+D11+E11 -> 32128.176
B12: Point 5 | C12: 25259.222 | D12: =C12*0.1085 -> 2740.6255 | E12: =C12*20% -> 5051.8443 | F12: =C12+D12+E12 -> 33051.691 | H12: For higher points on scale secondary degree (Masters/PhD) and/or some research experience desirable.
B13: Point 6 | C13: 25984.905 | D13: =C13*0.1085 -> 2819.3622 | E13: =C13*20% -> 5196.9811 | F13: =C13+D13+E13 -> 34001.249
B14: Point 7 | C14: 26357.262 | D14: =C14*0.1085 -> 2859.7629 | E14: =C14*20% -> 5271.4524 | F14: =C14+D14+E14 -> 34488.478
B15: Point 8 | C15: 27118.634 | D15: =C15*0.1085 -> 2942.3718 | E15: =C15*20% -> 5423.7269 | F15: =C15+D15+E15 -> 35484.733 | H15: Level on scale dependent on funding availability and experience, and will also be market-driven and discipline-related.
B16: Point 9 | C16: 27901.163 | D16: =C16*0.1085 -> 3027.2762 | E16: =C16*20% -> 5580.2326 | F16: =C16+D16+E16 -> 36508.672
B17: Point 10 | C17: 28707.379 | D17: =C17*0.1085 -> 3114.7506 | E17: =C17*20% -> 5741.4758 | F17: =C17+D17+E17 -> 37563.605
B18: Point 11 | C18: 29540.131 | D18: =C18*0.1085 -> 3205.1043 | E18: =C18*20% -> 5908.0263 | F18: =C18+D18+E18 -> 38653.262 | H18: Consideration also needs to be given to government policy in respect of direct entry level grades and the application of a 10% cut in gross salary for new entrants.
B19: Point 12 | C19: 30392.951 | D19: =C19*0.1085 -> 3297.6352 | E19: =C19*20% -> 6078.5902 | F19: =C19+D19+E19 -> 39769.177
B20: Point 13 | C20: 31251.082 | D20: =C20*0.1085 -> 3390.7424 | E20: =C20*20% -> 6250.2164 | F20: =C20+D20+E20 -> 40892.041
B21: Point 14 | C21: 32135.19 | D21: =C21*0.1085 -> 3486.6681 | E21: =C21*20% -> 6427.038 | F21: =C21+D21+E21 -> 42048.896
B22: Point 15 | C22: 32727.868 | D22: =C22*0.1085 -> 3550.9737 | E22: =C22*20% -> 6545.5737 | F22: =C22+D22+E22 -> 42824.416
B23: Point 16 | C23: 33656.159 | D23: =C23*0.1085 -> 3651.6933 | E23: =C23*20% -> 6731.2319 | F23: =C23+D23+E23 -> 44039.084
B24: Point 17 | C24: 34611.993 | D24: =C24*0.1085 -> 3755.4012 | E24: =C24*20% -> 6922.3986 | F24: =C24+D24+E24 -> 45289.793
A25: Post-Doctorate Researcher | B25: Point 1 | C25: 37222.776 | D25: =C25*0.1085 -> 4038.6712 | E25: =C25*20% -> 7444.5552 | F25: =C25+D25+E25 -> 48706.002 | H25: Minimum of PhD or equivalent* research experience (including industrial R&D).
B26: Point 2 | C26: 37756.655 | D26: =C26*0.1085 -> 4096.5971 | E26: =C26*20% -> 7551.3311 | F26: =C26+D26+E26 -> 49404.583
B27: Point 3 | C27: 39528.875 | D27: =C27*0.1085 -> 4288.8829 | E27: =C27*20% -> 7905.775 | F27: =C27+D27+E27 -> 51723.533
A28: LEVEL 2 | B28: Point 4 | C28: 40661.186 | D28: =C28*0.1085 -> 4411.7387 | E28: =C28*20% -> 8132.2372 | F28: =C28+D28+E28 -> 53205.162
B29: Point 5 | C29: 41827.16 | D29: =C29*0.1085 -> 4538.2469 | E29: =C29*20% -> 8365.4321 | F29: =C29+D29+E29 -> 54730.839 | H29: Level on scale dependent on funding availability and experience, and will also be market-driven and discipline-related.
B30: Point 6 | C30: 43028.838 | D30: =C30*0.1085 -> 4668.6289 | E30: =C30*20% -> 8605.7676 | F30: =C30+D30+E30 -> 56303.235
B31: Point 7 | C31: 44266.219 | D31: =C31*0.1085 -> 4802.8848 | E31: =C31*20% -> 8853.2439 | F31: =C31+D31+E31 -> 57922.348
B32: Point 8 | C32: 45540.434 | D32: =C32*0.1085 -> 4941.1371 | E32: =C32*20% -> 9108.0869 | F32: =C32+D32+E32 -> 59589.658
B33: Point 9 | C33: 46853.193 | D33: =C33*0.1085 -> 5083.5714 | E33: =C33*20% -> 9370.6386 | F33: =C33+D33+E33 -> 61307.403 | H33: * EU defines PhD equivalent 4 years fulltime research after primary degree
B34: Point 10 | C34: 48204.826 | D34: =C34*0.1085 -> 5230.2236 | E34: =C34*20% -> 9640.9651 | F34: =C34+D34+E34 -> 63076.014
A35: Research Fellow | B35: Point 1 | C35: 53775.592 | D35: =C35*0.1085 -> 5834.6517 | E35: =C35*20% -> 10755.118 | F35: =C35+D35+E35 -> 70365.362 | H35: Minimum of significant post-doctoral and/or industrial research experience.
A36: LEVEL 3 | B36: Point 2 | C36: 55335.324 | D36: =C36*0.1085 -> 6003.8827 | E36: =C36*20% -> 11067.065 | F36: =C36+D36+E36 -> 72406.272 | H36: Capable of independent research
B37: Point 3 | C37: 56941.982 | D37: =C37*0.1085 -> 6178.205 | E37: =C37*20% -> 11388.396 | F37: =C37+D37+E37 -> 74508.583 | H37: Level on scale dependent on funding availability and experience, and will also be market-driven and discipline-related.
B38: Point 4 | C38: 58596.584 | D38: =C38*0.1085 -> 6357.7294 | E38: =C38*20% -> 11719.317 | F38: =C38+D38+E38 -> 76673.63
A39: Senior Research Fellow | B39: Point 1 | C39: 65413.912 | D39: =C39*0.1085 -> 7097.4095 | E39: =C39*20% -> 13082.783 | F39: =C39+D39+E39 -> 85594.105 | H39: Minimum of very significant post-doctoral and/or industrial research experience.
A40: LEVEL 4 | B40: Point 2 | C40: 67322.52 | D40: =C40*0.1085 -> 7304.4934 | E40: =C40*20% -> 13464.504 | F40: =C40+D40+E40 -> 88091.517 | H40: Record of post-graduate supervision, international collaboration and funding acquisition
...

Sheet Scales 1.01.19
A1: Guidelines for Contract Researchers Salary Scales
A2: Applicable from 1st January 2019
C3: Researchers Salary Scales (Applicable from 01 January 2019)*
C4: GROSS SALARY | D4: Obligatory contribution | E4: Obligatory contribution | F4: Budget amount | H4: You are obliged under the Fixed Term Workers Act (2003) to provide Pension Costs for temporary and contract staff. In accordance with the Employment Control Framework, and in recognition of the fact that staff in contract research and other externally funded posts have entitlements to future pension benefits which is a deferred cost or liability for the Exchequer, any such new posts created or any renewal / renegotiation of existing contracts must include an employer’s pension contribution charge of 20% of gross pay. This represents the estimated contribution required from the project funder, in addition to the employee’s own personal pension contribution, to cover the deferred cost to the Exchequer of future pension entitlements.
A5: Column 1 | C5: Column 2 | D5: Column 3 | E5: Column 3 | F5: Column 4
A6: Researcher Salary Scales | C6: Gross Salary/ annum (€) | D6: Employer's PRSI @ 10.95% (€) | E6: Employer's Pension @ 20% (€) | F6: Annual cost to budget (€) | H6: HOW MUCH SHOULD I PAY?
H7: The salary scale for the role will relate to the grading of the post, as defined in the IUA Researcher Career Development and Employment Framework. These are the expected qualifications and experience approproiate for this level of remuneration.
A8: Research Assistant | B8: Point 1 | C8: 25511.214 | D8: =C8*0.1095 -> 2793.4779 | E8: =C8*20% -> 5102.2428 | F8: =C8+D8+E8 -> 33406.934
B9: Point 2 | C9: 26244.754 | D9: =C9*0.1095 -> 2873.8006 | E9: =C9*20% -> 5248.9509 | F9: =C9+D9+E9 -> 34367.506
B10: Point 3 | C10: 26620.835 | D10: =C10*0.1095 -> 2914.9814 | E10: =C10*20% -> 5324.167 | F10: =C10+D10+E10 -> 34859.983
B11: Point 4 | C11: 27389.821 | D11: =C11*0.1095 -> 2999.1854 | E11: =C11*20% -> 5477.9641 | F11: =C11+D11+E11 -> 35866.97
B12: Point 5 | C12: 28180.175 | D12: =C12*0.1095 -> 3085.7291 | E12: =C12*20% -> 5636.0349 | F12: =C12+D12+E12 -> 36901.939 | H12: Purpose of the role: to assist in the performance of research. .
B13: Point 6 | C13: 28994.453 | D13: =C13*0.1095 -> 3174.8926 | E13: =C13*20% -> 5798.8905 | F13: =C13+D13+E13 -> 37968.236
B14: Point 7 | C14: 29835.433 | D14: =C14*0.1095 -> 3266.9799 | E14: =C14*20% -> 5967.0865 | F14: =C14+D14+E14 -> 39069.499
B15: Point 8 | C15: 30392.951 | D15: =C15*0.1095 -> 3328.0282 | E15: =C15*20% -> 6078.5902 | F15: =C15+D15+E15 -> 39799.57 | H15: Qualifications and Experience: Minimum of primary Degree in relevant discipline with little or no research experience.
B16: Point 9 | C16: 31251.082 | D16: =C16*0.1095 -> 3421.9935 | E16: =C16*20% -> 6250.2164 | F16: =C16+D16+E16 -> 40923.292
B17: Point 10 | C17: 32135.19 | D17: =C17*0.1095 -> 3518.8033 | E17: =C17*20% -> 6427.038 | F17: =C17+D17+E17 -> 42081.032
B18: Point 11 | C18: 32727.868 | D18: =C18*0.1095 -> 3583.7016 | E18: =C18*20% -> 6545.5737 | F18: =C18+D18+E18 -> 42857.144
B19: Point 12 | C19: 33656.159 | D19: =C19*0.1095 -> 3685.3494 | E19: =C19*20% -> 6731.2319 | F19: =C19+D19+E19 -> 44072.741
B20: Point 13 | C20: 34611.993 | D20: =C20*0.1095 -> 3790.0132 | E20: =C20*20% -> 6922.3986 | F20: =C20+D20+E20 -> 45324.405 | H20: Purpose of the Role: to conduct a specified programme of research under supervision of a PI while developing skills and competencies with respect to the role and future career options.
A21: Post-Doctorate Researcher | B21: Point 1 | C21: 37222.776 | D21: =C21*0.1095 -> 4075.894 | E21: =C21*20% -> 7444.5552 | F21: =C21+D21+E21 -> 48743.225
B22: Point 2 | C22: 37756.655 | D22: =C22*0.1095 -> 4134.3538 | E22: =C22*20% -> 7551.3311 | F22: =C22+D22+E22 -> 49442.34 | H22: Qualification: Minimum of PhD, or exceptionally, equivalent* research experience (including industrial R&D).
B23: Point 3 | C23: 39528.875 | D23: =C23*0.1095 -> 4328.4118 | E23: =C23*20% -> 7905.775 | F23: =C23+D23+E23 -> 51763.062
B24: Point 4 | C24: 40661.186 | D24: =C24*0.1095 -> 4452.3999 | E24: =C24*20% -> 8132.2372 | F24: =C24+D24+E24 -> 53245.823
B25: Point 5 | C25: 41827.16 | D25: =C25*0.1095 -> 4580.0741 | E25: =C25*20% -> 8365.4321 | F25: =C25+D25+E25 -> 54772.666 | H25: Purpose of Role: to conduct a specified programme of research under supervision of a PI while also supervising PhD students and PD1s. Continuing to develop skills and competencies with respect to the role and future career options
B26: Point 6 | C26: 43028.838 | D26: =C26*0.1095 -> 4711.6578 | E26: =C26*20% -> 8605.7676 | F26: =C26+D26+E26 -> 56346.263
B27: Point 7 | C27: 44266.219 | D27: =C27*0.1095 -> 4847.151 | E27: =C27*20% -> 8853.2439 | F27: =C27+D27+E27 -> 57966.614 | H27: Qualification: Minimum of PhD, or exceptionally, equivalent* research experience (including industrial R&D).Experience: The appointed candidate will generally have 3 - 4 years postdoctoral research experience
B28: Point 8 | C28: 45540.434 | D28: =C28*0.1095 -> 4986.6776 | E28: =C28*20% -> 9108.0869 | F28: =C28+D28+E28 -> 59635.199 | H28: * EU defines PhD equivalent 4 years fulltime research after primary degree
B29: Point 9 | C29: 46853.193 | D29: =C29*0.1095 -> 5130.4246 | E29: =C29*20% -> 9370.6386 | F29: =C29+D29+E29 -> 61354.256
B30: Point 10 | C30: 48204.826 | D30: =C30*0.1095 -> 5278.4284 | E30: =C30*20% -> 9640.9651 | F30: =C30+D30+E30 -> 63124.219
A31: Research Fellow | B31: Point 1 | C31: 53775.592 | D31: =C31*0.1095 -> 5888.4273 | E31: =C31*20% -> 10755.118 | F31: =C31+D31+E31 -> 70419.137 | H31: Experience: The appointed candidate will generally have 4-6 years postdoctoral research experience.
B32: Point 2 | C32: 55335.324 | D32: =C32*0.1095 -> 6059.218 | E32: =C32*20% -> 11067.065 | F32: =C32+D32+E32 -> 72461.607 | H32: Qualification: Minimum of PhD, or exceptionally, equivalent* research experience (including industrial R&D)
B33: Point 3 | C33: 56941.982 | D33: =C33*0.1095 -> 6235.147 | E33: =C33*20% -> 11388.396 | F33: =C33+D33+E33 -> 74565.525 | H33: Purpose of Role: Design & implement a specific research programme/s in association with a PI. This role is a prestigious role which represents a step change from Post-Doctoral researcher roles.
B34: Point 4 | C34: 58596.584 | D34: =C34*0.1095 -> 6416.326 | E34: =C34*20% -> 11719.317 | F34: =C34+D34+E34 -> 76732.227 | H34: Purpose of Role: This role reflects the EU Framework Level 4 role of ‘Leading Researcher’, which is described as: “a researcher leading their research area or field. It would include the team leader of a research group ... In particular disciplines as an exception, leading researchers may include individuals who operate as lone researchers”.
A35: Senior Research Fellow | B35: Point 1 | C35: 65413.912 | D35: =C35*0.1095 -> 7162.8234 | E35: =C35*20% -> 13082.783 | F35: =C35+D35+E35 -> 85659.518
B36: Point 2 | C36: 67322.52 | D36: =C36*0.1095 -> 7371.8159 | E36: =C36*20% -> 13464.504 | F36: =C36+D36+E36 -> 88158.839
B37: Point 3 | C37: 68229.389 | D37: =C37*0.1095 -> 7471.118 | E37: =C37*20% -> 13645.878 | F37: =C37+D37+E37 -> 89346.384
B38: Point 4 | C38: 70200.222 | D38: =C38*0.1095 -> 7686.9243 | E38: =C38*20% -> 14040.044 | F38: =C38+D38+E38 -> 91927.19
A40: *Revised salary contribution scales reflect the Public Service Stability Agreement 2018-2020, issued by the Department of Public Expenditure and Reform.
A42: HOW TO USE THE GUIDELINES
...

Sheet Scales 1.09.19
A1: Guidelines for Contract Researchers Salary Scales
A2: Applicable from 1st September 2019
C3: Researchers Salary Scales (Applicable from 1st September 2019)*
C4: GROSS SALARY | D4: Obligatory contribution | E4: Obligatory contribution | F4: Budget amount | H4: You are obliged under the Fixed Term Workers Act (2003) to provide Pension Costs for temporary and contract staff. In accordance with the Employment Control Framework, and in recognition of the fact that staff in contract research and other externally funded posts have entitlements to future pension benefits which is a deferred cost or liability for the Exchequer, any such new posts created or any renewal / renegotiation of existing contracts must include an employer’s pension contribution charge of 20% of gross pay. This represents the estimated contribution required from the project funder, in addition to the employee’s own personal pension contribution, to cover the deferred cost to the Exchequer of future pension entitlements.
A5: Column 1 | C5: Column 2 | D5: Column 3 | E5: Column 3 | F5: Column 4
A6: Researcher Salary Scales | C6: Gross Salary/ annum (€) | D6: Employer's PRSI @ 10.95% (€) | E6: Employer's Pension @ 20% (€) | F6: Annual cost to budget (€) | H6: HOW MUCH SHOULD I PAY?
H7: The salary scale for the role will relate to the grading of the post, as defined in the IUA Researcher Career Development and Employment Framework. These are the expected qualifications and experience approproiate for this level of remuneration.
A8: Research Assistant | B8: Point 1 | C8: 25957.66 | D8: =C8*0.1095 -> 2842.3638 | E8: =C8*20% -> 5191.532 | F8: =C8+D8+E8 -> 33991.556
B9: Point 2 | C9: 26704.038 | D9: =C9*0.1095 -> 2924.0921 | E9: =C9*20% -> 5340.8075 | F9: =C9+D9+E9 -> 34968.937
B10: Point 3 | C10: 27086.699 | D10: =C10*0.1095 -> 2965.9936 | E10: =C10*20% -> 5417.3399 | F10: =C10+D10+E10 -> 35470.033
B11: Point 4 | C11: 27869.143 | D11: =C11*0.1095 -> 3051.6711 | E11: =C11*20% -> 5573.8285 | F11: =C11+D11+E11 -> 36494.642
B12: Point 5 | C12: 28673.328 | D12: =C12*0.1095 -> 3139.7294 | E12: =C12*20% -> 5734.6656 | F12: =C12+D12+E12 -> 37547.723 | H12: Purpose of the role: to assist in the performance of research. .
B13: Point 6 | C13: 29501.855 | D13: =C13*0.1095 -> 3230.4532 | E13: =C13*20% -> 5900.3711 | F13: =C13+D13+E13 -> 38632.68
B14: Point 7 | C14: 30357.553 | D14: =C14*0.1095 -> 3324.152 | E14: =C14*20% -> 6071.5106 | F14: =C14+D14+E14 -> 39753.215
B15: Point 8 | C15: 30924.828 | D15: =C15*0.1095 -> 3386.2687 | E15: =C15*20% -> 6184.9656 | F15: =C15+D15+E15 -> 40496.062 | H15: Qualifications and Experience: Minimum of primary Degree in relevant discipline with little or no research experience.
B16: Point 9 | C16: 31797.976 | D16: =C16*0.1095 -> 3481.8784 | E16: =C16*20% -> 6359.5952 | F16: =C16+D16+E16 -> 41639.449
B17: Point 10 | C17: 32697.556 | D17: =C17*0.1095 -> 3580.3824 | E17: =C17*20% -> 6539.5112 | F17: =C17+D17+E17 -> 42817.45
B18: Point 11 | C18: 33300.606 | D18: =C18*0.1095 -> 3646.4164 | E18: =C18*20% -> 6660.1212 | F18: =C18+D18+E18 -> 43607.144
B19: Point 12 | C19: 34245.142 | D19: =C19*0.1095 -> 3749.8431 | E19: =C19*20% -> 6849.0284 | F19: =C19+D19+E19 -> 44844.014
B20: Point 13 | C20: 35217.703 | D20: =C20*0.1095 -> 3856.3385 | E20: =C20*20% -> 7043.5406 | F20: =C20+D20+E20 -> 46117.582 | H20: Purpose of the Role: to conduct a specified programme of research under supervision of a PI while developing skills and competencies with respect to the role and future career options.
A21: Post-Doctorate Researcher | B21: Point 1 | C21: 37874.174 | D21: =C21*0.1095 -> 4147.2221 | E21: =C21*20% -> 7574.8349 | F21: =C21+D21+E21 -> 49596.231
B22: Point 2 | C22: 38417.397 | D22: =C22*0.1095 -> 4206.7049 | E22: =C22*20% -> 7683.4793 | F22: =C22+D22+E22 -> 50307.581 | H22: Qualification: Minimum of PhD, or exceptionally, equivalent* research experience (including industrial R&D).
B23: Point 3 | C23: 40220.63 | D23: =C23*0.1095 -> 4404.159 | E23: =C23*20% -> 8044.1261 | F23: =C23+D23+E23 -> 52668.915
B24: Point 4 | C24: 41372.757 | D24: =C24*0.1095 -> 4530.3169 | E24: =C24*20% -> 8274.5514 | F24: =C24+D24+E24 -> 54177.625
B25: Point 5 | C25: 42559.136 | D25: =C25*0.1095 -> 4660.2253 | E25: =C25*20% -> 8511.8271 | F25: =C25+D25+E25 -> 55731.188 | H25: Purpose of Role: to conduct a specified programme of research under supervision of a PI while also supervising PhD students and PD1s. Continuing to develop skills and competencies with respect to the role and future career options
B26: Point 6 | C26: 43781.843 | D26: =C26*0.1095 -> 4794.1118 | E26: =C26*20% -> 8756.3686 | F26: =C26+D26+E26 -> 57332.323
B27: Point 7 | C27: 45040.878 | D27: =C27*0.1095 -> 4931.9762 | E27: =C27*20% -> 9008.1756 | F27: =C27+D27+E27 -> 58981.03 | H27: Qualification: Minimum of PhD, or exceptionally, equivalent* research experience (including industrial R&D).Experience: The appointed candidate will generally have 3 - 4 years postdoctoral research experience
B28: Point 8 | C28: 46337.392 | D28: =C28*0.1095 -> 5073.9444 | E28: =C28*20% -> 9267.4784 | F28: =C28+D28+E28 -> 60678.815 | H28: * EU defines PhD equivalent 4 years fulltime research after primary degree
B29: Point 9 | C29: 47673.124 | D29: =C29*0.1095 -> 5220.2071 | E29: =C29*20% -> 9534.6248 | F29: =C29+D29+E29 -> 62427.956
B30: Point 10 | C30: 49048.41 | D30: =C30*0.1095 -> 5370.8009 | E30: =C30*20% -> 9809.682 | F30: =C30+D30+E30 -> 64228.893
A31: Research Fellow | B31: Point 1 | C31: 54716.664 | D31: =C31*0.1095 -> 5991.4748 | E31: =C31*20% -> 10943.333 | F31: =C31+D31+E31 -> 71651.472 | H31: Experience: The appointed candidate will generally have 4-6 years postdoctoral research experience.
B32: Point 2 | C32: 56303.693 | D32: =C32*0.1095 -> 6165.2543 | E32: =C32*20% -> 11260.739 | F32: =C32+D32+E32 -> 73729.686 | H32: Qualification: Minimum of PhD, or exceptionally, equivalent* research experience (including industrial R&D)
B33: Point 3 | C33: 57938.467 | D33: =C33*0.1095 -> 6344.2621 | E33: =C33*20% -> 11587.693 | F33: =C33+D33+E33 -> 75870.422 | H33: Purpose of Role: Design & implement a specific research programme/s in association with a PI. This role is a prestigious role which represents a step change from Post-Doctoral researcher roles.
B34: Point 4 | C34: 59622.024 | D34: =C34*0.1095 -> 6528.6117 | E34: =C34*20% -> 11924.405 | F34: =C34+D34+E34 -> 78075.041 | H34: Purpose of Role: This role reflects the EU Framework Level 4 role of ‘Leading Researcher’, which is described as: “a researcher leading their research area or field. It would include the team leader of a research group ... In particular disciplines as an exception, leading researchers may include individuals who operate as lone researchers”.
A35: Senior Research Fellow | B35: Point 1 | C35: 66558.656 | D35: =C35*0.1095 -> 7288.1728 | E35: =C35*20% -> 13311.731 | F35: =C35+D35+E35 -> 87158.56
B36: Point 2 | C36: 68500.664 | D36: =C36*0.1095 -> 7500.8227 | E36: =C36*20% -> 13700.133 | F36: =C36+D36+E36 -> 89701.619
B37: Point 3 | C37: 69423.403 | D37: =C37*0.1095 -> 7601.8626 | E37: =C37*20% -> 13884.681 | F37: =C37+D37+E37 -> 90909.946
B38: Point 4 | C38: 71428.726 | D38: =C38*0.1095 -> 7821.4455 | E38: =C38*20% -> 14285.745 | F38: =C38+D38+E38 -> 93535.916
A40: *Revised salary contribution scales reflect the Public Service Stability Agreement 2018-2020, issued by the Department of Public Expenditure and Reform.
A42: HOW TO USE THE GUIDELINES
...

Sheet Scales 1.01.20
A1: Guidelines for Contract Researchers Salary Scales
A2: Applicable from 1st January 2020
C3: Researchers Salary Scales (Applicable from 1st January 2020)*
C4: GROSS SALARY | D4: Obligatory contribution | E4: Obligatory contribution | F4: Budget amount | H4: You are obliged under the Fixed Term Workers Act (2003) to provide Pension Costs for temporary and contract staff. In accordance with the Employment Control Framework, and in recognition of the fact that staff in contract research and other externally funded posts have entitlements to future pension benefits which is a deferred cost or liability for the Exchequer, any such new posts created or any renewal / renegotiation of existing contracts must include an employer’s pension contribution charge of 20% of gross pay. This represents the estimated contribution required from the project funder, in addition to the employee’s own personal pension contribution, to cover the deferred cost to the Exchequer of future pension entitlements.
A5: Column 1 | C5: Column 2 | D5: Column 3 | E5: Column 3 | F5: Column 4
A6: Researcher Salary Scales | C6: Gross Salary/ annum (€) | D6: Employer's PRSI @ 11.05% (€) | E6: Employer's Pension @ 20% (€) | F6: Annual cost to budget (€) | H6: HOW MUCH SHOULD I PAY?
H7: The salary scale for the role will relate to the grading of the post, as defined in the IUA Researcher Career Development and Employment Framework. These are the expected qualifications and experience approproiate for this level of remuneration.
A8: Research Assistant | B8: Point 1 | C8: 26087.048 | D8: =C8*0.1105 -> 2882.6188 | E8: =C8*20% -> 5217.4097 | F8: =C8+D8+E8 -> 34187.077
B9: Point 2 | C9: 26837.558 | D9: =C9*0.1105 -> 2965.5501 | E9: =C9*20% -> 5367.5115 | F9: =C9+D9+E9 -> 35170.619
B10: Point 3 | C10: 27222.133 | D10: =C10*0.1105 -> 3008.0457 | E10: =C10*20% -> 5444.4266 | F10: =C10+D10+E10 -> 35674.605
B11: Point 4 | C11: 28008.488 | D11: =C11*0.1105 -> 3094.938 | E11: =C11*20% -> 5601.6976 | F11: =C11+D11+E11 -> 36705.124
B12: Point 5 | C12: 28816.294 | D12: =C12*0.1105 -> 3184.2005 | E12: =C12*20% -> 5763.2589 | F12: =C12+D12+E12 -> 37763.754 | H12: Purpose of the role: to assist in the performance of research. .
B13: Point 6 | C13: 29649.365 | D13: =C13*0.1105 -> 3276.2548 | E13: =C13*20% -> 5929.873 | F13: =C13+D13+E13 -> 38855.493
B14: Point 7 | C14: 30509.341 | D14: =C14*0.1105 -> 3371.2821 | E14: =C14*20% -> 6101.8681 | F14: =C14+D14+E14 -> 39982.491
B15: Point 8 | C15: 31079.452 | D15: =C15*0.1105 -> 3434.2794 | E15: =C15*20% -> 6215.8904 | F15: =C15+D15+E15 -> 40729.622 | H15: Qualifications and Experience: Minimum of primary Degree in relevant discipline with little or no research experience.
B16: Point 9 | C16: 31956.966 | D16: =C16*0.1105 -> 3531.2447 | E16: =C16*20% -> 6391.3932 | F16: =C16+D16+E16 -> 41879.604
B17: Point 10 | C17: 32697.556 | D17: =C17*0.1105 -> 3613.0799 | E17: =C17*20% -> 6539.5112 | F17: =C17+D17+E17 -> 42850.147
B18: Point 11 | C18: 33300.606 | D18: =C18*0.1105 -> 3679.717 | E18: =C18*20% -> 6660.1212 | F18: =C18+D18+E18 -> 43640.444
B19: Point 12 | C19: 34245.142 | D19: =C19*0.1105 -> 3784.0882 | E19: =C19*20% -> 6849.0284 | F19: =C19+D19+E19 -> 44878.259
B20: Point 13 | C20: 35217.703 | D20: =C20*0.1105 -> 3891.5562 | E20: =C20*20% -> 7043.5406 | F20: =C20+D20+E20 -> 46152.8 | H20: Purpose of the Role: to conduct a specified programme of research under supervision of a PI while developing skills and competencies with respect to the role and future career options.
A21: Post-Doctorate Researcher | B21: Point 1 | C21: 37874.174 | D21: =C21*0.1105 -> 4185.0963 | E21: =C21*20% -> 7574.8349 | F21: =C21+D21+E21 -> 49634.106
B22: Point 2 | C22: 38417.397 | D22: =C22*0.1105 -> 4245.1223 | E22: =C22*20% -> 7683.4793 | F22: =C22+D22+E22 -> 50345.998 | H22: Qualification: Minimum of PhD, or exceptionally, equivalent* research experience (including industrial R&D).
B23: Point 3 | C23: 40220.63 | D23: =C23*0.1105 -> 4444.3796 | E23: =C23*20% -> 8044.1261 | F23: =C23+D23+E23 -> 52709.136
B24: Point 4 | C24: 41372.757 | D24: =C24*0.1105 -> 4571.6896 | E24: =C24*20% -> 8274.5514 | F24: =C24+D24+E24 -> 54218.998
B25: Point 5 | C25: 42559.136 | D25: =C25*0.1105 -> 4702.7845 | E25: =C25*20% -> 8511.8271 | F25: =C25+D25+E25 -> 55773.747 | H25: Purpose of Role: to conduct a specified programme of research under supervision of a PI while also supervising PhD students and PD1s. Continuing to develop skills and competencies with respect to the role and future career options
B26: Point 6 | C26: 43781.843 | D26: =C26*0.1105 -> 4837.8936 | E26: =C26*20% -> 8756.3686 | F26: =C26+D26+E26 -> 57376.105
B27: Point 7 | C27: 45040.878 | D27: =C27*0.1105 -> 4977.017 | E27: =C27*20% -> 9008.1756 | F27: =C27+D27+E27 -> 59026.071 | H27: Qualification: Minimum of PhD, or exceptionally, equivalent* research experience (including industrial R&D).Experience: The appointed candidate will generally have 3 - 4 years postdoctoral research experience
B28: Point 8 | C28: 46337.392 | D28: =C28*0.1105 -> 5120.2818 | E28: =C28*20% -> 9267.4784 | F28: =C28+D28+E28 -> 60725.152 | H28: * EU defines PhD equivalent 4 years fulltime research after primary degree
B29: Point 9 | C29: 47673.124 | D29: =C29*0.1105 -> 5267.8802 | E29: =C29*20% -> 9534.6248 | F29: =C29+D29+E29 -> 62475.629
B30: Point 10 | C30: 49048.41 | D30: =C30*0.1105 -> 5419.8493 | E30: =C30*20% -> 9809.682 | F30: =C30+D30+E30 -> 64277.941
A31: Research Fellow | B31: Point 1 | C31: 54716.664 | D31: =C31*0.1105 -> 6046.1914 | E31: =C31*20% -> 10943.333 | F31: =C31+D31+E31 -> 71706.189 | H31: Experience: The appointed candidate will generally have 4-6 years postdoctoral research experience.
B32: Point 2 | C32: 56303.693 | D32: =C32*0.1105 -> 6221.558 | E32: =C32*20% -> 11260.739 | F32: =C32+D32+E32 -> 73785.989 | H32: Qualification: Minimum of PhD, or exceptionally, equivalent* research experience (including industrial R&D)
B33: Point 3 | C33: 57938.467 | D33: =C33*0.1105 -> 6402.2006 | E33: =C33*20% -> 11587.693 | F33: =C33+D33+E33 -> 75928.361 | H33: Purpose of Role: Design & implement a specific research programme/s in association with a PI. This role is a prestigious role which represents a step change from Post-Doctoral researcher roles.
B34: Point 4 | C34: 59622.024 | D34: =C34*0.1105 -> 6588.2337 | E34: =C34*20% -> 11924.405 | F34: =C34+D34+E34 -> 78134.663 | H34: Purpose of Role: This role reflects the EU Framework Level 4 role of ‘Leading Researcher’, which is described as: “a researcher leading their research area or field. It would include the team leader of a research group ... In particular disciplines as an exception, leading researchers may include individuals who operate as lone researchers”.
A35: Senior Research Fellow | B35: Point 1 | C35: 66558.656 | D35: =C35*0.1105 -> 7354.7315 | E35: =C35*20% -> 13311.731 | F35: =C35+D35+E35 -> 87225.119
B36: Point 2 | C36: 68500.664 | D36: =C36*0.1105 -> 7569.3233 | E36: =C36*20% -> 13700.133 | F36: =C36+D36+E36 -> 89770.12
B37: Point 3 | C37: 69423.403 | D37: =C37*0.1105 -> 7671.286 | E37: =C37*20% -> 13884.681 | F37: =C37+D37+E37 -> 90979.369
B38: Point 4 | C38: 71428.726 | D38: =C38*0.1105 -> 7892.8742 | E38: =C38*20% -> 14285.745 | F38: =C38+D38+E38 -> 93607.345
A40: *Revised salary contribution scales reflect the Public Service Stability Agreement 2018-2020, issued by the Department of Public Expenditure and Reform.
A42: HOW TO USE THE GUIDELINES
...

Sheet Scales 1.10.20
A1: Guidelines for Contract Researchers Salary Scales
A2: Applicable from 1st October 2020*
C3: Researchers Salary Scales (Applicable from 1st October 2020)*
C4: GROSS SALARY | D4: Obligatory contribution | E4: Obligatory contribution | F4: Budget amount | H4: You are obliged under the Fixed Term Workers Act (2003) to provide Pension Costs for temporary and contract staff. In accordance with the Employment Control Framework, and in recognition of the fact that staff in contract research and other externally funded posts have entitlements to future pension benefits which is a deferred cost or liability for the Exchequer, any such new posts created or any renewal / renegotiation of existing contracts must include an employer’s pension contribution charge of 20% of gross pay. This represents the estimated contribution required from the project funder, in addition to the employee’s own personal pension contribution, to cover the deferred cost to the Exchequer of future pension entitlements.
A5: Column 1 | C5: Column 2 | D5: Column 3 | E5: Column 3 | F5: Column 4
A6: Researcher Salary Scales | C6: Gross Salary/ annum (€) | D6: Employer's PRSI @ 11.05% (€) | E6: Employer's Pension @ 20% (€) | F6: Annual cost to budget (€) | H6: HOW MUCH SHOULD I PAY?
H7: The salary scale for the role will relate to the grading of the post, as defined in the IUA Researcher Career Development and Employment Framework. These are the expected qualifications and experience appropriate for this level of remuneration.
A8: Research Assistant | B8: Point 1 | C8: 26608.789 | D8: =C8*0.1105 -> 2940.2712 | E8: =C8*20% -> 5321.7579 | F8: =C8+D8+E8 -> 34870.818
B9: Point 2 | C9: 27374.309 | D9: =C9*0.1105 -> 3024.8611 | E9: =C9*20% -> 5474.8618 | F9: =C9+D9+E9 -> 35874.032
B10: Point 3 | C10: 27766.576 | D10: =C10*0.1105 -> 3068.2066 | E10: =C10*20% -> 5553.3151 | F10: =C10+D10+E10 -> 36388.097
B11: Point 4 | C11: 28568.658 | D11: =C11*0.1105 -> 3156.8367 | E11: =C11*20% -> 5713.7316 | F11: =C11+D11+E11 -> 37439.226
B12: Point 5 | C12: 29392.62 | D12: =C12*0.1105 -> 3247.8845 | E12: =C12*20% -> 5878.5241 | F12: =C12+D12+E12 -> 38519.029 | H12: Purpose of the role: to assist in the performance of research. .
B13: Point 6 | C13: 30242.352 | D13: =C13*0.1105 -> 3341.7799 | E13: =C13*20% -> 6048.4704 | F13: =C13+D13+E13 -> 39632.602
B14: Point 7 | C14: 31119.527 | D14: =C14*0.1105 -> 3438.7078 | E14: =C14*20% -> 6223.9055 | F14: =C14+D14+E14 -> 40782.141
B15: Point 8 | C15: 31701.041 | D15: =C15*0.1105 -> 3502.965 | E15: =C15*20% -> 6340.2082 | F15: =C15+D15+E15 -> 41544.214 | H15: Qualifications and Experience: Minimum of primary Degree in relevant discipline with little or no research experience.
B16: Point 9 | C16: 32596.105 | D16: =C16*0.1105 -> 3601.8696 | E16: =C16*20% -> 6519.221 | F16: =C16+D16+E16 -> 42717.196
B17: Point 10 | C17: 33351.507 | D17: =C17*0.1105 -> 3685.3415 | E17: =C17*20% -> 6670.3014 | F17: =C17+D17+E17 -> 43707.15
B18: Point 11 | C18: 33966.618 | D18: =C18*0.1105 -> 3753.3113 | E18: =C18*20% -> 6793.3236 | F18: =C18+D18+E18 -> 44513.253
B19: Point 12 | C19: 34930.045 | D19: =C19*0.1105 -> 3859.77 | E19: =C19*20% -> 6986.009 | F19: =C19+D19+E19 -> 45775.824
B20: Point 13 | C20: 35922.057 | D20: =C20*0.1105 -> 3969.3873 | E20: =C20*20% -> 7184.4114 | F20: =C20+D20+E20 -> 47075.856
A21: Post-Doctoral Researcher
A22: PD1 | B22: Point 1 | C22: 38631.658 | D22: =C22*0.1105 -> 4268.7982 | E22: =C22*20% -> 7726.3316 | F22: =C22+D22+E22 -> 50626.788
B23: Point 2 | C23: 39185.745 | D23: =C23*0.1105 -> 4330.0248 | E23: =C23*20% -> 7837.1489 | F23: =C23+D23+E23 -> 51352.918 | H23: Purpose of the Role: to conduct a specified programme of research under supervision of a PI while developing skills and competencies with respect to the role and future career options.
B24: Point 3 | C24: 41025.043 | D24: =C24*0.1105 -> 4533.2672 | E24: =C24*20% -> 8205.0086 | F24: =C24+D24+E24 -> 53763.319
B25: Point 4 | C25: 42200.212 | D25: =C25*0.1105 -> 4663.1234 | E25: =C25*20% -> 8440.0424 | F25: =C25+D25+E25 -> 55303.378 | H25: Qualification: Minimum of PhD, or exceptionally, equivalent* research experience (including industrial R&D).
B26: Point 5 | C26: 43410.318 | D26: =C26*0.1105 -> 4796.8402 | E26: =C26*20% -> 8682.0637 | F26: =C26+D26+E26 -> 56889.222
B27: Point 6 | C27: 44657.48 | D27: =C27*0.1105 -> 4934.6515 | E27: =C27*20% -> 8931.4959 | F27: =C27+D27+E27 -> 58523.627 | H27: Purpose of Role: to conduct a specified programme of research under supervision of a PI while also supervising PhD students and PD1s. Continuing to develop skills and competencies with respect to the role and future career options.
A29: PD2 | B29: Point 1 | C29: 45941.696 | D29: =C29*0.1105 -> 5076.5574 | E29: =C29*20% -> 9188.3392 | F29: =C29+D29+E29 -> 60206.592
B30: Point 2 | C30: 47264.14 | D30: =C30*0.1105 -> 5222.6874 | E30: =C30*20% -> 9452.8279 | F30: =C30+D30+E30 -> 61939.655
B31: Point 3 | C31: 48626.586 | D31: =C31*0.1105 -> 5373.2378 | E31: =C31*20% -> 9725.3173 | F31: =C31+D31+E31 -> 63725.141 | H31: * EU defines PhD equivalent 4 years fulltime research after primary degree
B32: Point 4 | C32: 50029.378 | D32: =C32*0.1105 -> 5528.2463 | E32: =C32*20% -> 10005.876 | F32: =C32+D32+E32 -> 65563.5
A33: Research Fellow | B33: Point 1 | C33: 55810.998 | D33: =C33*0.1105 -> 6167.1153 | E33: =C33*20% -> 11162.2 | F33: =C33+D33+E33 -> 73140.313 | H33: Experience: The appointed candidate will generally have 4-6 years postdoctoral research experience.
B34: Point 2 | C34: 57429.767 | D34: =C34*0.1105 -> 6345.9892 | E34: =C34*20% -> 11485.953 | F34: =C34+D34+E34 -> 75261.709 | H34: Qualification: Minimum of PhD, or exceptionally, equivalent* research experience (including industrial R&D)
B35: Point 3 | C35: 59097.236 | D35: =C35*0.1105 -> 6530.2446 | E35: =C35*20% -> 11819.447 | F35: =C35+D35+E35 -> 77446.928 | H35: Purpose of Role: Design & implement a specific research programme/s in association with a PI. This role is a prestigious role which represents a step change from Post-Doctoral researcher roles.
B36: Point 4 | C36: 60814.465 | D36: =C36*0.1105 -> 6719.9984 | E36: =C36*20% -> 12162.893 | F36: =C36+D36+E36 -> 79697.356
A37: Senior Research Fellow | B37: Point 1 | C37: 67889.829 | D37: =C37*0.1105 -> 7501.8261 | E37: =C37*20% -> 13577.966 | F37: =C37+D37+E37 -> 88969.621
B38: Point 2 | C38: 69870.677 | D38: =C38*0.1105 -> 7720.7098 | E38: =C38*20% -> 13974.135 | F38: =C38+D38+E38 -> 91565.522 | H38: Purpose of Role: This role reflects the EU Framework Level 4 role of ‘Leading Researcher’, which is described as: “a researcher leading their research area or field. It would include the team leader of a research group ... In particular disciplines as an exception, leading researchers may include individuals who operate as lone researchers”.
B39: Point 3 | C39: 70811.871 | D39: =C39*0.1105 -> 7824.7117 | E39: =C39*20% -> 14162.374 | F39: =C39+D39+E39 -> 92798.957
B40: Point 4 | C40: 72857.3 | D40: =C40*0.1105 -> 8050.7317 | E40: =C40*20% -> 14571.46 | F40: =C40+D40+E40 -> 95479.492
A42: *Revised salary contribution scales reflect the Public Service Stability Agreement 2018-2020, issued by the Department of Public Expenditure and Reform. The rates shown are the rates of pay effective from 1st October 2020. Under the terms of the current national pay agreement – Building Momentum- which covers the period up to October 2022, the following pay increases are proposed: • A general round increase in annualised basic salary of 1% or €500, whichever is greater, on 1 October 2021. • The equivalent of a 1% increase in annualised basic salaries is to be used as a Sectoral Bargaining Fund, payable on 1 February 2022. • A general round increase in annualised basic salary of 1% or €500, whichever is greater, on 1 October 2022. As the precise details of the application of the Sectoral Bargaining Fund are yet to be determined, we are not in a position to update the scales from October 2022 at this point. Also, the October 2021 general increase is contingent on satisfactory achievement of the Further and Higher Education sectoral Building Momentum action plan, so any proposal to include the October 2021 increase in budgetary calculations should be regarded as provisional until approval of the general round increase is confirmed.
...

Sheet Scales 1.10.21
A1: Guidelines for Contract Researchers Salary Scales
A2: Provisional** scales applicable from 1st October 2021*
C3: Researchers Salary Scales (Applicable from 1st October 2021)*
C4: GROSS SALARY | D4: Obligatory contribution | E4: Obligatory contribution | F4: Budget amount | H4: You are obliged under the Fixed Term Workers Act (2003) to provide Pension Costs for temporary and contract staff. In accordance with the Employment Control Framework, and in recognition of the fact that staff in contract research and other externally funded posts have entitlements to future pension benefits which is a deferred cost or liability for the Exchequer, any such new posts created or any renewal / renegotiation of existing contracts must include an employer’s pension contribution charge of 20% of gross pay. This represents the estimated contribution required from the project funder, in addition to the employee’s own personal pension contribution, to cover the deferred cost to the Exchequer of future pension entitlements.
A5: Column 1 | C5: Column 2 | D5: Column 3 | E5: Column 3 | F5: Column 4
A6: Researcher Salary Scales | C6: Gross Salary/ annum (€) | D6: Employer's PRSI @ 11.05% (€) | E6: Employer's Pension @ 20% (€) | F6: Annual cost to budget (€) | H6: HOW MUCH SHOULD I PAY?
H7: The salary scale for the role will relate to the grading of the post, as defined in the IUA Researcher Career Development and Employment Framework. These are the expected qualifications and experience appropriate for this level of remuneration.
A8: Research Assistant | B8: Point 1 | C8: ='Scales 1.10.20'!C8+500 -> 27108.789 | D8: =C8*0.1105 -> 2995.5212 | E8: =C8*20% -> 5421.7579 | F8: =C8+D8+E8 -> 35526.068
B9: Point 2 | C9: ='Scales 1.10.20'!C9+500 -> 27874.309 | D9: =C9*0.1105 -> 3080.1111 | E9: =C9*20% -> 5574.8618 | F9: =C9+D9+E9 -> 36529.282
B10: Point 3 | C10: ='Scales 1.10.20'!C10+500 -> 28266.576 | D10: =C10*0.1105 -> 3123.4566 | E10: =C10*20% -> 5653.3151 | F10: =C10+D10+E10 -> 37043.347
B11: Point 4 | C11: ='Scales 1.10.20'!C11+500 -> 29068.658 | D11: =C11*0.1105 -> 3212.0867 | E11: =C11*20% -> 5813.7316 | F11: =C11+D11+E11 -> 38094.476
B12: Point 5 | C12: ='Scales 1.10.20'!C12+500 -> 29892.62 | D12: =C12*0.1105 -> 3303.1345 | E12: =C12*20% -> 5978.5241 | F12: =C12+D12+E12 -> 39174.279 | H12: Purpose of the role: to assist in the performance of research. .
B13: Point 6 | C13: ='Scales 1.10.20'!C13+500 -> 30742.352 | D13: =C13*0.1105 -> 3397.0299 | E13: =C13*20% -> 6148.4704 | F13: =C13+D13+E13 -> 40287.852
B14: Point 7 | C14: ='Scales 1.10.20'!C14+500 -> 31619.527 | D14: =C14*0.1105 -> 3493.9578 | E14: =C14*20% -> 6323.9055 | F14: =C14+D14+E14 -> 41437.391
B15: Point 8 | C15: ='Scales 1.10.20'!C15+500 -> 32201.041 | D15: =C15*0.1105 -> 3558.215 | E15: =C15*20% -> 6440.2082 | F15: =C15+D15+E15 -> 42199.464 | H15: Qualifications and Experience: Minimum of primary Degree in relevant discipline with little or no research experience.
B16: Point 9 | C16: ='Scales 1.10.20'!C16+500 -> 33096.105 | D16: =C16*0.1105 -> 3657.1196 | E16: =C16*20% -> 6619.221 | F16: =C16+D16+E16 -> 43372.446
B17: Point 10 | C17: ='Scales 1.10.20'!C17+500 -> 33851.507 | D17: =C17*0.1105 -> 3740.5915 | E17: =C17*20% -> 6770.3014 | F17: =C17+D17+E17 -> 44362.4
B18: Point 11 | C18: ='Scales 1.10.20'!C18+500 -> 34466.618 | D18: =C18*0.1105 -> 3808.5613 | E18: =C18*20% -> 6893.3236 | F18: =C18+D18+E18 -> 45168.503
B19: Point 12 | C19: ='Scales 1.10.20'!C19+500 -> 35430.045 | D19: =C19*0.1105 -> 3915.02 | E19: =C19*20% -> 7086.009 | F19: =C19+D19+E19 -> 46431.074
B20: Point 13 | C20: ='Scales 1.10.20'!C20+500 -> 36422.057 | D20: =C20*0.1105 -> 4024.6373 | E20: =C20*20% -> 7284.4114 | F20: =C20+D20+E20 -> 47731.106
A21: Post-Doctoral Researcher
A22: PD1 | B22: Point 1 | C22: ='Scales 1.10.20'!C22+500 -> 39131.658 | D22: =C22*0.1105 -> 4324.0482 | E22: =C22*20% -> 7826.3316 | F22: =C22+D22+E22 -> 51282.038
B23: Point 2 | C23: ='Scales 1.10.20'!C23+500 -> 39685.745 | D23: =C23*0.1105 -> 4385.2748 | E23: =C23*20% -> 7937.1489 | F23: =C23+D23+E23 -> 52008.168 | H23: Purpose of the Role: to conduct a specified programme of research under supervision of a PI while developing skills and competencies with respect to the role and future career options.
B24: Point 3 | C24: ='Scales 1.10.20'!C24+500 -> 41525.043 | D24: =C24*0.1105 -> 4588.5172 | E24: =C24*20% -> 8305.0086 | F24: =C24+D24+E24 -> 54418.569
B25: Point 4 | C25: ='Scales 1.10.20'!C25+500 -> 42700.212 | D25: =C25*0.1105 -> 4718.3734 | E25: =C25*20% -> 8540.0424 | F25: =C25+D25+E25 -> 55958.628 | H25: Qualification: Minimum of PhD, or exceptionally, equivalent* research experience (including industrial R&D).
B26: Point 5 | C26: ='Scales 1.10.20'!C26+500 -> 43910.318 | D26: =C26*0.1105 -> 4852.0902 | E26: =C26*20% -> 8782.0637 | F26: =C26+D26+E26 -> 57544.472
B27: Point 6 | C27: ='Scales 1.10.20'!C27+500 -> 45157.48 | D27: =C27*0.1105 -> 4989.9015 | E27: =C27*20% -> 9031.4959 | F27: =C27+D27+E27 -> 59178.877 | H27: Purpose of Role: to conduct a specified programme of research under supervision of a PI while also supervising PhD students and PD1s. Continuing to develop skills and competencies with respect to the role and future career options.
A29: PD2 | B29: Point 1 | C29: ='Scales 1.10.20'!C29+500 -> 46441.696 | D29: =C29*0.1105 -> 5131.8074 | E29: =C29*20% -> 9288.3392 | F29: =C29+D29+E29 -> 60861.842
B30: Point 2 | C30: ='Scales 1.10.20'!C30+500 -> 47764.14 | D30: =C30*0.1105 -> 5277.9374 | E30: =C30*20% -> 9552.8279 | F30: =C30+D30+E30 -> 62594.905
B31: Point 3 | C31: ='Scales 1.10.20'!C31+500 -> 49126.586 | D31: =C31*0.1105 -> 5428.4878 | E31: =C31*20% -> 9825.3173 | F31: =C31+D31+E31 -> 64380.391 | H31: * EU defines PhD equivalent 4 years fulltime research after primary degree
B32: Point 4 | C32: ='Scales 1.10.20'!C32+500 -> 50529.378 | D32: =C32*0.1105 -> 5583.4963 | E32: =C32*20% -> 10105.876 | F32: =C32+D32+E32 -> 66218.75
A33: Research Fellow | B33: Point 1 | C33: ='Scales 1.10.20'!C33*1.01 -> 56369.108 | D33: =C33*0.1105 -> 6228.7864 | E33: =C33*20% -> 11273.822 | F33: =C33+D33+E33 -> 73871.716 | H33: Experience: The appointed candidate will generally have 4-6 years postdoctoral research experience.
B34: Point 2 | C34: ='Scales 1.10.20'!C34*1.01 -> 58004.064 | D34: =C34*0.1105 -> 6409.4491 | E34: =C34*20% -> 11600.813 | F34: =C34+D34+E34 -> 76014.326 | H34: Qualification: Minimum of PhD, or exceptionally, equivalent* research experience (including industrial R&D)
B35: Point 3 | C35: ='Scales 1.10.20'!C35*1.01 -> 59688.208 | D35: =C35*0.1105 -> 6595.547 | E35: =C35*20% -> 11937.642 | F35: =C35+D35+E35 -> 78221.397 | H35: Purpose of Role: Design & implement a specific research programme/s in association with a PI. This role is a prestigious role which represents a step change from Post-Doctoral researcher roles.
B36: Point 4 | C36: ='Scales 1.10.20'!C36*1.01 -> 61422.61 | D36: =C36*0.1105 -> 6787.1984 | E36: =C36*20% -> 12284.522 | F36: =C36+D36+E36 -> 80494.33
A37: Senior Research Fellow | B37: Point 1 | C37: ='Scales 1.10.20'!C37*1.01 -> 68568.727 | D37: =C37*0.1105 -> 7576.8444 | E37: =C37*20% -> 13713.745 | F37: =C37+D37+E37 -> 89859.317
B38: Point 2 | C38: ='Scales 1.10.20'!C38*1.01 -> 70569.384 | D38: =C38*0.1105 -> 7797.9169 | E38: =C38*20% -> 14113.877 | F38: =C38+D38+E38 -> 92481.177 | H38: Purpose of Role: This role reflects the EU Framework Level 4 role of ‘Leading Researcher’, which is described as: “a researcher leading their research area or field. It would include the team leader of a research group ... In particular disciplines as an exception, leading researchers may include individuals who operate as lone researchers”.
B39: Point 3 | C39: ='Scales 1.10.20'!C39*1.01 -> 71519.99 | D39: =C39*0.1105 -> 7902.9588 | E39: =C39*20% -> 14303.998 | F39: =C39+D39+E39 -> 93726.946
B40: Point 4 | C40: ='Scales 1.10.20'!C40*1.01 -> 73585.873 | D40: =C40*0.1105 -> 8131.239 | E40: =C40*20% -> 14717.175 | F40: =C40+D40+E40 -> 96434.287
A42: The new public service agreement, Building Momentum - 2021-2022, issued by the Department of Public Expenditure and Reform, is an extension of previous public service agreements, including the Public Service Stability Agreement, 2018-2020. Under the terms of the Building Momentum public service agreement, the following pay adjustments apply: • A general round increase in annualised basic salary of 1% or €500, whichever is greater, on 1 October 2021. • The equivalent of a 1% increase in annualised basic salaries is to be used as a Sectoral Bargaining Fund, payable on 1 February 2022. • A general round increase in annualised basic salary of 1% or €500, whichever is greater, on 1 October 2022.
...

Sheet Scales 1.02.22
A1: Guidelines for Contract Researchers Salary Scales
A2: Scales applicable from 1st February 2022
C3: Researchers Salary Scales (Applicable from 1st February 2022)
C4: GROSS SALARY | D4: Obligatory contribution | E4: Obligatory contribution | F4: Budget amount | H4: You are obliged under the Fixed Term Workers Act (2003) to provide Pension Costs for temporary and contract staff. In accordance with the Employment Control Framework, and in recognition of the fact that staff in contract research and other externally funded posts have entitlements to future pension benefits which is a deferred cost or liability for the Exchequer, any such new posts created or any renewal / renegotiation of existing contracts must include an employer’s pension contribution charge of 20% of gross pay. This represents the estimated contribution required from the project funder, in addition to the employee’s own personal pension contribution, to cover the deferred cost to the Exchequer of future pension entitlements.
A5: Column 1 | C5: Column 2 | D5: Column 3 | E5: Column 3 | F5: Column 4
A6: Researcher Salary Scales | C6: Gross Salary/ annum (€) | D6: Employer's PRSI @ 11.05% (€) | E6: Employer's Pension @ 20% (€) | F6: Annual cost to budget (€) | H6: HOW MUCH SHOULD I PAY?
H7: The salary scale for the role will relate to the grading of the post, as defined in the IUA Researcher Career Development and Employment Framework. These are the expected qualifications and experience appropriate for this level of remuneration.
A8: Research Assistant | B8: Point 1 | C8: ='Scales 1.10.21'!C8*1.01 -> 27379.877 | D8: =C8*0.1105 -> 3025.4764 | E8: =C8*20% -> 5475.9754 | F8: =C8+D8+E8 -> 35881.329
B9: Point 2 | C9: ='Scales 1.10.21'!C9*1.01 -> 28153.052 | D9: =C9*0.1105 -> 3110.9122 | E9: =C9*20% -> 5630.6104 | F9: =C9+D9+E9 -> 36894.575
B10: Point 3 | C10: ='Scales 1.10.21'!C10*1.01 -> 28549.241 | D10: =C10*0.1105 -> 3154.6912 | E10: =C10*20% -> 5709.8483 | F10: =C10+D10+E10 -> 37413.781
B11: Point 4 | C11: ='Scales 1.10.21'!C11*1.01 -> 29359.345 | D11: =C11*0.1105 -> 3244.2076 | E11: =C11*20% -> 5871.8689 | F11: =C11+D11+E11 -> 38475.421
B12: Point 5 | C12: ='Scales 1.10.21'!C12*1.01 -> 30191.547 | D12: =C12*0.1105 -> 3336.1659 | E12: =C12*20% -> 6038.3093 | F12: =C12+D12+E12 -> 39566.022 | H12: Purpose of the role: to assist in the performance of research. .
B13: Point 6 | C13: ='Scales 1.10.21'!C13*1.01 -> 31049.776 | D13: =C13*0.1105 -> 3431.0002 | E13: =C13*20% -> 6209.9551 | F13: =C13+D13+E13 -> 40690.731
B14: Point 7 | C14: ='Scales 1.10.21'!C14*1.01 -> 31935.723 | D14: =C14*0.1105 -> 3528.8973 | E14: =C14*20% -> 6387.1445 | F14: =C14+D14+E14 -> 41851.764
B15: Point 8 | C15: ='Scales 1.10.21'!C15*1.01 -> 32523.051 | D15: =C15*0.1105 -> 3593.7972 | E15: =C15*20% -> 6504.6103 | F15: =C15+D15+E15 -> 42621.459 | H15: Qualifications and Experience: Minimum of primary Degree in relevant discipline with little or no research experience.
B16: Point 9 | C16: ='Scales 1.10.21'!C16*1.01 -> 33427.066 | D16: =C16*0.1105 -> 3693.6908 | E16: =C16*20% -> 6685.4132 | F16: =C16+D16+E16 -> 43806.17
B17: Point 10 | C17: ='Scales 1.10.21'!C17*1.01 -> 34190.022 | D17: =C17*0.1105 -> 3777.9975 | E17: =C17*20% -> 6838.0044 | F17: =C17+D17+E17 -> 44806.024
B18: Point 11 | C18: ='Scales 1.10.21'!C18*1.01 -> 34811.284 | D18: =C18*0.1105 -> 3846.6469 | E18: =C18*20% -> 6962.2569 | F18: =C18+D18+E18 -> 45620.188
B19: Point 12 | C19: ='Scales 1.10.21'!C19*1.01 -> 35784.345 | D19: =C19*0.1105 -> 3954.1702 | E19: =C19*20% -> 7156.8691 | F19: =C19+D19+E19 -> 46895.385
B20: Point 13 | C20: ='Scales 1.10.21'!C20*1.01 -> 36786.278 | D20: =C20*0.1105 -> 4064.8837 | E20: =C20*20% -> 7357.2555 | F20: =C20+D20+E20 -> 48208.417
A21: Post-Doctoral Researcher
A22: PD1 | B22: Point 1 | C22: ='Scales 1.10.21'!C22*1.01 -> 39522.974 | D22: =C22*0.1105 -> 4367.2887 | E22: =C22*20% -> 7904.5949 | F22: =C22+D22+E22 -> 51794.858
B23: Point 2 | C23: ='Scales 1.10.21'!C23*1.01 -> 40082.602 | D23: =C23*0.1105 -> 4429.1275 | E23: =C23*20% -> 8016.5204 | F23: =C23+D23+E23 -> 52528.25 | H23: Purpose of the Role: to conduct a specified programme of research under supervision of a PI while developing skills and competencies with respect to the role and future career options.
B24: Point 3 | C24: ='Scales 1.10.21'!C24*1.01 -> 41940.293 | D24: =C24*0.1105 -> 4634.4024 | E24: =C24*20% -> 8388.0587 | F24: =C24+D24+E24 -> 54962.754
B25: Point 4 | C25: ='Scales 1.10.21'!C25*1.01 -> 43127.214 | D25: =C25*0.1105 -> 4765.5571 | E25: =C25*20% -> 8625.4428 | F25: =C25+D25+E25 -> 56518.214 | H25: Qualification: Minimum of PhD, or exceptionally, equivalent* research experience (including industrial R&D).
B26: Point 5 | C26: ='Scales 1.10.21'!C26*1.01 -> 44349.422 | D26: =C26*0.1105 -> 4900.6111 | E26: =C26*20% -> 8869.8843 | F26: =C26+D26+E26 -> 58119.917
B27: Point 6 | C27: ='Scales 1.10.21'!C27*1.01 -> 45609.054 | D27: =C27*0.1105 -> 5039.8005 | E27: =C27*20% -> 9121.8109 | F27: =C27+D27+E27 -> 59770.666 | H27: Purpose of Role: to conduct a specified programme of research under supervision of a PI while also supervising PhD students and PD1s. Continuing to develop skills and competencies with respect to the role and future career options.
A29: PD2 | B29: Point 1 | C29: ='Scales 1.10.21'!C29*1.01 -> 46906.113 | D29: =C29*0.1105 -> 5183.1255 | E29: =C29*20% -> 9381.2226 | F29: =C29+D29+E29 -> 61470.461
B30: Point 2 | C30: ='Scales 1.10.21'!C30*1.01 -> 48241.781 | D30: =C30*0.1105 -> 5330.7168 | E30: =C30*20% -> 9648.3562 | F30: =C30+D30+E30 -> 63220.854
B31: Point 3 | C31: ='Scales 1.10.21'!C31*1.01 -> 49617.852 | D31: =C31*0.1105 -> 5482.7727 | E31: =C31*20% -> 9923.5704 | F31: =C31+D31+E31 -> 65024.195 | H31: * EU defines PhD equivalent 4 years fulltime research after primary degree
B32: Point 4 | C32: ='Scales 1.10.21'!C32*1.01 -> 51034.672 | D32: =C32*0.1105 -> 5639.3312 | E32: =C32*20% -> 10206.934 | F32: =C32+D32+E32 -> 66880.938
A33: Research Fellow | B33: Point 1 | C33: ='Scales 1.10.21'!C33*1.01 -> 56932.799 | D33: =C33*0.1105 -> 6291.0743 | E33: =C33*20% -> 11386.56 | F33: =C33+D33+E33 -> 74610.433 | H33: Experience: The appointed candidate will generally have 4-6 years postdoctoral research experience.
B34: Point 2 | C34: ='Scales 1.10.21'!C34*1.01 -> 58584.105 | D34: =C34*0.1105 -> 6473.5436 | E34: =C34*20% -> 11716.821 | F34: =C34+D34+E34 -> 76774.469 | H34: Qualification: Minimum of PhD, or exceptionally, equivalent* research experience (including industrial R&D)
